BEGIN:VCALENDAR
VERSION:2.0
PRODID:-//SavannahEmmanuele//Wedding//IT
CALSCALE:GREGORIAN
METHOD:PUBLISH
BEGIN:VEVENT
UID:69e5f79aa6aba@savannah-emmanuele
DTSTAMP:20260420T095330Z
DTSTART:20260530T100000Z
DTEND:20260530T210000Z
SUMMARY:Matrimonio Savannah & Emmanuele
LOCATION:Castello Vassallo, 84040 Stella Cilento, Salerno, Italia
DESCRIPTION:Vi aspettiamo per celebrare insieme! Programma: Cerimonia 12:00 • Aperitivo 14:00 • Pranzo 15:00 • Party 21:00
END:VEVENT
END:VCALENDAR